BEGIN:VCALENDAR
PRODID:-//AT Content Types//AT Event//EN
VERSION:2.0
METHOD:PUBLISH
BEGIN:VEVENT
DTSTAMP:20260424T210328Z
CREATED:20150409T025122Z
UID:ATEvent-46c09ab360854a97b2c0d17eaa7dafea
LAST-MODIFIED:20150706T025313Z
SUMMARY:PHASE/0 利用講習会 2015/05/27 開催
DTSTART:20150527T013000Z
DTEND:20150527T080000Z
LOCATION:東京大学 生産技術研究所 As棟 中セミナー室４ （As311-312室)
URL:https://azuma.nims.go.jp/events/semi2015/semi20150527
CLASS:PUBLIC
END:VEVENT
END:VCALENDAR
